BEGIN:VCALENDAR
VERSION:2.0
PRODID:-//Getaway Experience - ECPv6.15.16//NONSGML v1.0//EN
CALSCALE:GREGORIAN
METHOD:PUBLISH
X-WR-CALNAME:Getaway Experience
X-ORIGINAL-URL:https://getawayexperience.co.uk
X-WR-CALDESC:Events for Getaway Experience
REFRESH-INTERVAL;VALUE=DURATION:PT1H
X-Robots-Tag:noindex
X-PUBLISHED-TTL:PT1H
BEGIN:VTIMEZONE
TZID:Europe/London
BEGIN:DAYLIGHT
TZOFFSETFROM:+0000
TZOFFSETTO:+0100
TZNAME:BST
DTSTART:20220327T010000
END:DAYLIGHT
BEGIN:STANDARD
TZOFFSETFROM:+0100
TZOFFSETTO:+0000
TZNAME:GMT
DTSTART:20221030T010000
END:STANDARD
BEGIN:DAYLIGHT
TZOFFSETFROM:+0000
TZOFFSETTO:+0100
TZNAME:BST
DTSTART:20230326T010000
END:DAYLIGHT
BEGIN:STANDARD
TZOFFSETFROM:+0100
TZOFFSETTO:+0000
TZNAME:GMT
DTSTART:20231029T010000
END:STANDARD
BEGIN:DAYLIGHT
TZOFFSETFROM:+0000
TZOFFSETTO:+0100
TZNAME:BST
DTSTART:20240331T010000
END:DAYLIGHT
BEGIN:STANDARD
TZOFFSETFROM:+0100
TZOFFSETTO:+0000
TZNAME:GMT
DTSTART:20241027T010000
END:STANDARD
END:VTIMEZONE
BEGIN:VEVENT
DTSTART;TZID=Europe/London:20231029T150000
DTEND;TZID=Europe/London:20231029T210000
DTSTAMP:20260424T131400
CREATED:20230914T142713Z
LAST-MODIFIED:20231012T185047Z
UID:629860-1698591600-1698613200@getawayexperience.co.uk
SUMMARY:Dinner Party
DESCRIPTION:A CELEBRATION OF AN ICON				\n				\n					\n		\n					\n		\n				\n						\n					\n			\n						\n				\n									Looking for a unique and exclusive way to enjoy the Michael Jackson Movie? This is not your typical trip to the movies\, this is a celebration of Michael Jackson! We start in the cinema with popcorn in hand. Then we don’t go home\, we head to the dancefloor and party in the cinema. What to Expect: Private cinema screeningPopcorn & nachos on saleAfter party with DJs straight after the film80s\, 90s\, 00s anthems & MJ classics
URL:https://getawayexperience.co.uk/event/dinner-party/
LOCATION:Forge\, 24 Cornhill\, London\, EC3V 3ND\, United Kingdom
CATEGORIES:visible
ATTACH;FMTTYPE=image/png:https://getawayexperience.co.uk/wp-content/uploads/2023/09/Dinner-Party-Copy-Presentation.png
END:VEVENT
END:VCALENDAR