BEGIN:VCALENDAR
VERSION:2.0
PRODID:-//Getaway Experience - ECPv6.15.16//NONSGML v1.0//EN
CALSCALE:GREGORIAN
METHOD:PUBLISH
X-WR-CALNAME:Getaway Experience
X-ORIGINAL-URL:https://getawayexperience.co.uk
X-WR-CALDESC:Events for Getaway Experience
REFRESH-INTERVAL;VALUE=DURATION:PT1H
X-Robots-Tag:noindex
X-PUBLISHED-TTL:PT1H
BEGIN:VTIMEZONE
TZID:Europe/London
BEGIN:DAYLIGHT
TZOFFSETFROM:+0000
TZOFFSETTO:+0100
TZNAME:BST
DTSTART:20240331T010000
END:DAYLIGHT
BEGIN:STANDARD
TZOFFSETFROM:+0100
TZOFFSETTO:+0000
TZNAME:GMT
DTSTART:20241027T010000
END:STANDARD
BEGIN:DAYLIGHT
TZOFFSETFROM:+0000
TZOFFSETTO:+0100
TZNAME:BST
DTSTART:20250330T010000
END:DAYLIGHT
BEGIN:STANDARD
TZOFFSETFROM:+0100
TZOFFSETTO:+0000
TZNAME:GMT
DTSTART:20251026T010000
END:STANDARD
BEGIN:DAYLIGHT
TZOFFSETFROM:+0000
TZOFFSETTO:+0100
TZNAME:BST
DTSTART:20260329T010000
END:DAYLIGHT
BEGIN:STANDARD
TZOFFSETFROM:+0100
TZOFFSETTO:+0000
TZNAME:GMT
DTSTART:20261025T010000
END:STANDARD
BEGIN:DAYLIGHT
TZOFFSETFROM:+0000
TZOFFSETTO:+0100
TZNAME:BST
DTSTART:20270328T010000
END:DAYLIGHT
BEGIN:STANDARD
TZOFFSETFROM:+0100
TZOFFSETTO:+0000
TZNAME:GMT
DTSTART:20271031T010000
END:STANDARD
BEGIN:DAYLIGHT
TZOFFSETFROM:+0000
TZOFFSETTO:+0100
TZNAME:BST
DTSTART:20280326T010000
END:DAYLIGHT
BEGIN:STANDARD
TZOFFSETFROM:+0100
TZOFFSETTO:+0000
TZNAME:GMT
DTSTART:20281029T010000
END:STANDARD
END:VTIMEZONE
BEGIN:VEVENT
DTSTART;TZID=Europe/London:20251230T120000
DTEND;TZID=Europe/London:20260101T120000
DTSTAMP:20260425T211527
CREATED:20250102T085308Z
LAST-MODIFIED:20250810T095721Z
UID:642339-1767096000-1767268800@getawayexperience.co.uk
SUMMARY:Getaway NYE 2025/26 Sign up
DESCRIPTION:Getaway NYE 2025/26\nTues 30th Dec 2025 – Thurs 1st Jan 2026\nThe hotel is half full!\nAlready booked pre-sale? Nothing to do for now – we will email you with next steps soon. \nRemaining spaces on sale now! \n\nClick here for 2025 spaces
URL:https://getawayexperience.co.uk/event/nye2025-preregister/
LOCATION:Venue tbc
CATEGORIES:visible
ATTACH;FMTTYPE=image/jpeg:https://getawayexperience.co.uk/wp-content/uploads/2024/04/penta-twin.jpg
END:VEVENT
BEGIN:VEVENT
DTSTART;TZID=Europe/London:20260425T193000
DTEND;TZID=Europe/London:20260426T000000
DTSTAMP:20260425T211527
CREATED:20260416T164106Z
LAST-MODIFIED:20260422T174851Z
UID:647352-1777145400-1777161600@getawayexperience.co.uk
SUMMARY:Michael Jackson - Private Screening and After Party
DESCRIPTION:A CELEBRATION OF AN ICON\nLooking for a unique and exclusive way to enjoy the Michael Jackson Movie? This is not your typical trip to the movies\, this is a celebration of Michael Jackson! We start in the cinema with popcorn in hand. Then we don’t go home\, we head to the dancefloor and party in the cinema. \nWhat to Expect: \n\nPrivate cinema screening\nPopcorn & nachos on sale\nAfter party with DJs straight after the film\n80s\, 90s\, 00s anthems & MJ classics
URL:https://getawayexperience.co.uk/event/michael-jackson-private-screening-and-after-party/
LOCATION:Lumiere Cinema\, Level 3\, The Mercury Centre\, Mercury Gardens\, Romford\, Essex\, RM1 3EE\, United Kingdom
CATEGORIES:Social,visible
ATTACH;FMTTYPE=image/png:https://getawayexperience.co.uk/wp-content/uploads/2026/04/Film-Screening.png
END:VEVENT
BEGIN:VEVENT
DTSTART;TZID=Europe/London:20260618T080000
DTEND;TZID=Europe/London:20260620T190000
DTSTAMP:20260425T211527
CREATED:20260108T005924Z
LAST-MODIFIED:20260109T184602Z
UID:645332-1781769600-1781982000@getawayexperience.co.uk
SUMMARY:Royal Ascot VIP 2026
DESCRIPTION:WHERE RACING MEETS THE PARTY\nThursday 18th – Saturday 20th June 2026\nExperience Royal Ascot the VIP way. Our exclusive Windsor Enclosure area is where style\, racing and celebration come together — reserved seating with parasol cover\, live DJs and music between races\, a giant screen for all the action\, and a buzzing social atmosphere all day long. \nDress to impress\, enter the Best Dressed competition\, enjoy easy betting at the private station\, and keep the drinks flowing with dedicated bar and food stalls — all without missing a moment. \nUpgrade to the Full Experience and start the day in style with breakfast at the Hilton\, plus luxury coach travel and complimentary drinks on the way. \nWe take care of everything. You just bring the outfit\, enjoy the races and soak up an unforgettable Ascot party.
URL:https://getawayexperience.co.uk/event/royal-ascot-2026/
LOCATION:Ascot Racecourse\, High St\, Ascot\, Reading\, SL5 7JX\, United Kingdom
CATEGORIES:visible
ATTACH;FMTTYPE=image/jpeg:https://getawayexperience.co.uk/wp-content/uploads/2026/01/Ascot-Flyer-A6.jpg
END:VEVENT
BEGIN:VEVENT
DTSTART;TZID=Europe/London:20260705T100000
DTEND;TZID=Europe/London:20260705T200000
DTSTAMP:20260425T211527
CREATED:20260218T123230Z
LAST-MODIFIED:20260320T095451Z
UID:646274-1783245600-1783281600@getawayexperience.co.uk
SUMMARY:Newhall Vineyard Tour & Wine Tasting Experience [July]
DESCRIPTION:We’re collaborating with Wine specialist MannyDoesWine to bring you a series of exciting Vineyard Tour & Wine tasting experiences \n\nSunday 5th July 2026 – New Hall Wine Estate\, Essex\nOne coach only – 49 spaces! Once they’re gone – they’re gone!\nDeposit from £17 – Select a Wine tasting instalment plan at checkout.\n\nYour exclusive experience includes; \n\n\n\nCoach Journey from London to Essex where you’ll enjoy a complimentary glass of bubbly\, juices\, games\, music and a fun wine themed quiz hosted by Manny.\nEntry to New Hall Wine Estate\, where we’ll meet our expert private tour guide and discover the essence of wine making whilst meandering the beautiful 120 acre vineyard.\nSelection of Five Exceptional Wines: Enjoy a curated tasting featuring a selection of their finest wines – still and sparkling.\nGuided Exploration: Learn about the different grape varieties we use\, the meticulous winemaking process we employ\, and the history and stories behind each vintage.\nGoody bag to take home and remind you of a great day out!\n\n\n\nQuick Menu: Schedule | Coach | Tickets \nSchedule\n10.00am\nRegistration and Coach\n12.00pm\nService station & Lunch\n1.30pm\nVineyard tour\n2.15pm\nWine Tasting\n3.00pm\nGift Shop\n3.30pm\nDrinks & Optional Dinner\n5.30pm\nCoach Home > 7.30pm\n \nCoach Journey\nRegistration: 10.00am\nLocation: Kingsway\, Holborn\nOutside Cafe Nero\, 7b Kingsway\, London WC2B 6XG\nDeparture: 10:30am | Journey time 2 h (+ 30 minute stop) \n\nGlass of bubbly (we’ve been advised not to give you too much to ensure you’re able to enjoy the wine tasting\nComplimentary juices\nFun Wine themed games\, music & quiz\n\n\nPlease have a solid breakfast\, grab something on the way prior to arriving. or join us at Cafe nero for breakfast at around 9.30 \nDrinkAware.co.uk\nWe promote responsible drinking – our reps are instructed to refuse to serve anyone who is visibly intoxicated beyond reasonable limits. \nVisit www.drinkaware.co.uk to find out more.
URL:https://getawayexperience.co.uk/event/newhall-vineyard-july-26/
LOCATION:New Hall Wine Estate\, Chelmsford Road\, Purleigh\, Essex\, CM3 6PN\, United Kingdom
CATEGORIES:wine-tasting
ATTACH;FMTTYPE=image/jpeg:https://getawayexperience.co.uk/wp-content/uploads/2026/02/Newhall-wine-thm.jpg
END:VEVENT
BEGIN:VEVENT
DTSTART;TZID=Europe/London:20260816T100000
DTEND;TZID=Europe/London:20260816T200000
DTSTAMP:20260425T211527
CREATED:20260310T131526Z
LAST-MODIFIED:20260314T092956Z
UID:646775-1786874400-1786910400@getawayexperience.co.uk
SUMMARY:Chapel Down Vineyard Tour & Wine Tasting Experience [August]
DESCRIPTION:We’re collaborating with MannyDoesWine to bring you a series of exciting Vineyard Tour & Wine tasting experiences this summer. \n\nSunday 16th August 2026: Chapel Down Winery\, Kent\nSpaces limited to 1 coach – 49 seats! Once they’re gone – they’re gone!\nDeposit from £17 – Select a Wine tasting instalment plan at checkout.\n\nYour exclusive experience includes; \n\n\n\nCoach Journey from London to Kent – you’ll enjoy  complimentary bubbly\, juices\, samplers\, and a fun wine themed quiz hosted by Manny.\nEntry to Chapel Down Winery\, where we’ll meet an expert tour guide and discover the essence of wine making whilst meandering the beautiful 120 acre vineyard.\nSelection of Five Exceptional Wines: Enjoy a curated tasting featuring a selection of their finest wines – still and sparkling.\nGuided Exploration: Learn about the different grape varieties they use\, the meticulous winemaking process they employ\, and the history and stories behind each vintage.\n\n\n\nQuick Menu: Schedule | Coach | Tickets | More dates \nSchedule\n10.00am\nRegistration and Coach\n12.00pm\nService station.\n1.30pm\nVineyard tour\n2.15pm\nWine Tasting\n3.30pm\nGift Shop\n3.45pm\nDrinks & Optional Dinner\n5.00pm\nCoach Home > 7.00pm\n																														 \nCoach Journey\nRegistration: 10.00am Location: Kingsway\, HolbornOutside Cafe Nero\, 7b Kingsway\, London WC2B 6XGDeparture: 10:30am | Journey time 2 h (+ 30 minute stop) \n\nGlass or two of bubbly (We’ve been advised not to give you too much to ensure you’re able to enjoy the wine tasting)\nComplimentary juices & water\nFun Wine themed games\, music & quiz\n\nPlease have a solid breakfast\, grab something on the way prior to arriving. or join us at Cafe nero for breakfast at around 9.30 \nDining optional\nWe will stay at the Winery till 4.45pm. You can choose to have lunch in the Swan Restaurant\, or simply soak in the ambience good vibes (and more wine) in public area’s till we depart \nIf you are booking\, please book directly with the restaurant for 3.45pm. Coach will aim to depart at 5.00pm \nVisit Swan Restaurant
URL:https://getawayexperience.co.uk/event/chapeldown-vineyard-august-26/
LOCATION:Chapel Down Winery\, Small Hythe Road\, Tenterden\, Kent\, TN30 7NG\, United Kingdom
CATEGORIES:wine-tasting
ATTACH;FMTTYPE=image/jpeg:https://getawayexperience.co.uk/wp-content/uploads/2026/03/chapel-down-thm.jpg
END:VEVENT
BEGIN:VEVENT
DTSTART;TZID=Europe/London:20261230T140000
DTEND;TZID=Europe/London:20270101T120000
DTSTAMP:20260425T211527
CREATED:20260109T205247Z
LAST-MODIFIED:20260409T202715Z
UID:645356-1798639200-1798804800@getawayexperience.co.uk
SUMMARY:New Year's Eve Priority
DESCRIPTION:An epic New Year’s Eve hotel experience with parties\, themed entertainment\, daytime activities\, and chic 4★ hotel\nWednesday 30th Dec 2025 – Friday 1st Jan 2026\nExperience nights filled with themed parties and day activities filled with social mixers\, pop-up sessions\, fitness sessions\, and games — plus your choice of 2-night\, 1-night or party-only tickets. \nWhether you want a full weekend getaway or just an unforgettable mature & stylish NYE celebration with vibes\, entertainment and new experiences\, this is your destination for celebrating the end of the year\, and beginning 2027 on a fresh wave. \n\nSign-up
URL:https://getawayexperience.co.uk/event/nye-2026-priority/
LOCATION:Penta Hotel\, Oxford Rd\, Reading\, RG1 7RH\, United Kingdom
CATEGORIES:visible
ATTACH;FMTTYPE=image/jpeg:https://getawayexperience.co.uk/wp-content/uploads/2024/01/nye.jpg
END:VEVENT
END:VCALENDAR