BEGIN:VCALENDAR
VERSION:2.0
PRODID:-//Getaway Experience - ECPv6.15.16//NONSGML v1.0//EN
CALSCALE:GREGORIAN
METHOD:PUBLISH
X-WR-CALNAME:Getaway Experience
X-ORIGINAL-URL:https://getawayexperience.co.uk
X-WR-CALDESC:Events for Getaway Experience
REFRESH-INTERVAL;VALUE=DURATION:PT1H
X-Robots-Tag:noindex
X-PUBLISHED-TTL:PT1H
BEGIN:VTIMEZONE
TZID:Europe/London
BEGIN:DAYLIGHT
TZOFFSETFROM:+0000
TZOFFSETTO:+0100
TZNAME:BST
DTSTART:20210328T010000
END:DAYLIGHT
BEGIN:STANDARD
TZOFFSETFROM:+0100
TZOFFSETTO:+0000
TZNAME:GMT
DTSTART:20211031T010000
END:STANDARD
BEGIN:DAYLIGHT
TZOFFSETFROM:+0000
TZOFFSETTO:+0100
TZNAME:BST
DTSTART:20220327T010000
END:DAYLIGHT
BEGIN:STANDARD
TZOFFSETFROM:+0100
TZOFFSETTO:+0000
TZNAME:GMT
DTSTART:20221030T010000
END:STANDARD
BEGIN:DAYLIGHT
TZOFFSETFROM:+0000
TZOFFSETTO:+0100
TZNAME:BST
DTSTART:20230326T010000
END:DAYLIGHT
BEGIN:STANDARD
TZOFFSETFROM:+0100
TZOFFSETTO:+0000
TZNAME:GMT
DTSTART:20231029T010000
END:STANDARD
END:VTIMEZONE
BEGIN:VEVENT
DTSTART;TZID=Europe/London:20221222T000000
DTEND;TZID=Europe/London:20221222T000000
DTSTAMP:20260425T200500
CREATED:20221222T020650Z
LAST-MODIFIED:20221229T203544Z
UID:624498-1671667200-1671667200@getawayexperience.co.uk
SUMMARY:GetawayNYE upgrades
DESCRIPTION:A CELEBRATION OF AN ICON				\n				\n					\n		\n					\n		\n				\n						\n					\n			\n						\n				\n									Looking for a unique and exclusive way to enjoy the Michael Jackson Movie? This is not your typical trip to the movies\, this is a celebration of Michael Jackson! We start in the cinema with popcorn in hand. Then we don’t go home\, we head to the dancefloor and party in the cinema. What to Expect: Private cinema screeningPopcorn & nachos on saleAfter party with DJs straight after the film80s\, 90s\, 00s anthems & MJ classics
URL:https://getawayexperience.co.uk/event/getawaynye-upgrades/
CATEGORIES:NYE2022
END:VEVENT
BEGIN:VEVENT
DTSTART;TZID=Europe/London:20221025T080000
DTEND;TZID=Europe/London:20221025T170000
DTSTAMP:20260425T200500
CREATED:20221025T220325Z
LAST-MODIFIED:20221209T150123Z
UID:621602-1666684800-1666717200@getawayexperience.co.uk
SUMMARY:Getaway NYE 22/23 - Wokefield Place - 1 Night
DESCRIPTION:A CELEBRATION OF AN ICON				\n				\n					\n		\n					\n		\n				\n						\n					\n			\n						\n				\n									Looking for a unique and exclusive way to enjoy the Michael Jackson Movie? This is not your typical trip to the movies\, this is a celebration of Michael Jackson! We start in the cinema with popcorn in hand. Then we don’t go home\, we head to the dancefloor and party in the cinema. What to Expect: Private cinema screeningPopcorn & nachos on saleAfter party with DJs straight after the film80s\, 90s\, 00s anthems & MJ classics
URL:https://getawayexperience.co.uk/event/getaway-nye-22-23-wokefield-place-1-night/
END:VEVENT
BEGIN:VEVENT
DTSTART;TZID=Europe/London:20220919T130000
DTEND;TZID=Europe/London:20220919T170000
DTSTAMP:20260425T200500
CREATED:20220803T165553Z
LAST-MODIFIED:20220803T170832Z
UID:617570-1663592400-1663606800@getawayexperience.co.uk
SUMMARY:Old Skool Brunch - Fuerteventura
DESCRIPTION:A CELEBRATION OF AN ICON				\n				\n					\n		\n					\n		\n				\n						\n					\n			\n						\n				\n									Looking for a unique and exclusive way to enjoy the Michael Jackson Movie? This is not your typical trip to the movies\, this is a celebration of Michael Jackson! We start in the cinema with popcorn in hand. Then we don’t go home\, we head to the dancefloor and party in the cinema. What to Expect: Private cinema screeningPopcorn & nachos on saleAfter party with DJs straight after the film80s\, 90s\, 00s anthems & MJ classics
URL:https://getawayexperience.co.uk/event/old-skool-brunch-fuerteventura/
LOCATION:Playitas Resort\, Urbanización Las Playitas s/n\, 35629 Las Playitas\, Fuerteventura\, Canary Islands\, Spain
CATEGORIES:holiday
ATTACH;FMTTYPE=image/jpeg:https://getawayexperience.co.uk/wp-content/uploads/2022/08/OSB-RK.jpg
ORGANIZER;CN="Charles":MAILTO:charles.adamah@gmail.com
END:VEVENT
BEGIN:VEVENT
DTSTART;TZID=Europe/London:20220915T080000
DTEND;TZID=Europe/London:20220920T233000
DTSTAMP:20260425T200500
CREATED:20220124T102820Z
LAST-MODIFIED:20220708T132955Z
UID:611702-1663228800-1663716600@getawayexperience.co.uk
SUMMARY:Getaway: Fuerteventura 5 Nights
DESCRIPTION:A CELEBRATION OF AN ICON				\n				\n					\n		\n					\n		\n				\n						\n					\n			\n						\n				\n									Looking for a unique and exclusive way to enjoy the Michael Jackson Movie? This is not your typical trip to the movies\, this is a celebration of Michael Jackson! We start in the cinema with popcorn in hand. Then we don’t go home\, we head to the dancefloor and party in the cinema. What to Expect: Private cinema screeningPopcorn & nachos on saleAfter party with DJs straight after the film80s\, 90s\, 00s anthems & MJ classics
URL:https://getawayexperience.co.uk/event/getaway-ftv-5night/
LOCATION:Playitas Resort\, Urbanización Las Playitas s/n\, 35629 Las Playitas\, Fuerteventura\, Canary Islands\, Spain
CATEGORIES:holiday
ATTACH;FMTTYPE=image/jpeg:https://getawayexperience.co.uk/wp-content/uploads/2022/02/playitas-aparthotel.jpg
END:VEVENT
BEGIN:VEVENT
DTSTART;TZID=Europe/London:20220915T080000
DTEND;TZID=Europe/London:20220920T233000
DTSTAMP:20260425T200500
CREATED:20220119T235542Z
LAST-MODIFIED:20220808T081935Z
UID:611662-1663228800-1663716600@getawayexperience.co.uk
SUMMARY:Getaway: Fuerteventura
DESCRIPTION:A CELEBRATION OF AN ICON				\n				\n					\n		\n					\n		\n				\n						\n					\n			\n						\n				\n									Looking for a unique and exclusive way to enjoy the Michael Jackson Movie? This is not your typical trip to the movies\, this is a celebration of Michael Jackson! We start in the cinema with popcorn in hand. Then we don’t go home\, we head to the dancefloor and party in the cinema. What to Expect: Private cinema screeningPopcorn & nachos on saleAfter party with DJs straight after the film80s\, 90s\, 00s anthems & MJ classics
URL:https://getawayexperience.co.uk/event/getaway-fuerteventura/
LOCATION:Playitas Resort\, Urbanización Las Playitas s/n\, 35629 Las Playitas\, Fuerteventura\, Canary Islands\, Spain
CATEGORIES:holiday,visible
ATTACH;FMTTYPE=image/jpeg:https://getawayexperience.co.uk/wp-content/uploads/2022/02/playitas-aparthotel.jpg
END:VEVENT
BEGIN:VEVENT
DTSTART;TZID=Europe/London:20220616T080000
DTEND;TZID=Europe/London:20220616T200000
DTSTAMP:20260425T200500
CREATED:20220117T190849Z
LAST-MODIFIED:20220210T004906Z
UID:611623-1655366400-1655409600@getawayexperience.co.uk
SUMMARY:Royal Ascot 2022
DESCRIPTION:A CELEBRATION OF AN ICON				\n				\n					\n		\n					\n		\n				\n						\n					\n			\n						\n				\n									Looking for a unique and exclusive way to enjoy the Michael Jackson Movie? This is not your typical trip to the movies\, this is a celebration of Michael Jackson! We start in the cinema with popcorn in hand. Then we don’t go home\, we head to the dancefloor and party in the cinema. What to Expect: Private cinema screeningPopcorn & nachos on saleAfter party with DJs straight after the film80s\, 90s\, 00s anthems & MJ classics
URL:https://getawayexperience.co.uk/event/royal-ascot-2022/
LOCATION:Ascot Racecourse\, High St\, Ascot\, Reading\, SL5 7JX\, United Kingdom
ATTACH;FMTTYPE=image/jpeg:https://getawayexperience.co.uk/wp-content/uploads/2022/01/ascot-2022.jpeg
END:VEVENT
END:VCALENDAR