BEGIN:VCALENDAR
VERSION:2.0
PRODID:-//Getaway Experience - ECPv6.15.16//NONSGML v1.0//EN
CALSCALE:GREGORIAN
METHOD:PUBLISH
X-ORIGINAL-URL:https://getawayexperience.co.uk
X-WR-CALDESC:Events for Getaway Experience
REFRESH-INTERVAL;VALUE=DURATION:PT1H
X-Robots-Tag:noindex
X-PUBLISHED-TTL:PT1H
BEGIN:VTIMEZONE
TZID:Europe/London
BEGIN:DAYLIGHT
TZOFFSETFROM:+0000
TZOFFSETTO:+0100
TZNAME:BST
DTSTART:20240331T010000
END:DAYLIGHT
BEGIN:STANDARD
TZOFFSETFROM:+0100
TZOFFSETTO:+0000
TZNAME:GMT
DTSTART:20241027T010000
END:STANDARD
BEGIN:DAYLIGHT
TZOFFSETFROM:+0000
TZOFFSETTO:+0100
TZNAME:BST
DTSTART:20250330T010000
END:DAYLIGHT
BEGIN:STANDARD
TZOFFSETFROM:+0100
TZOFFSETTO:+0000
TZNAME:GMT
DTSTART:20251026T010000
END:STANDARD
BEGIN:DAYLIGHT
TZOFFSETFROM:+0000
TZOFFSETTO:+0100
TZNAME:BST
DTSTART:20260329T010000
END:DAYLIGHT
BEGIN:STANDARD
TZOFFSETFROM:+0100
TZOFFSETTO:+0000
TZNAME:GMT
DTSTART:20261025T010000
END:STANDARD
END:VTIMEZONE
BEGIN:VEVENT
DTSTART;TZID=Europe/London:20250301T170000
DTEND;TZID=Europe/London:20250301T220000
DTSTAMP:20260422T022221
CREATED:20250131T190952Z
LAST-MODIFIED:20250213T155843Z
UID:642940-1740848400-1740866400@getawayexperience.co.uk
SUMMARY:Getaway Experience Games & Social Night
DESCRIPTION:A CELEBRATION OF AN ICON				\n				\n					\n		\n					\n		\n				\n						\n					\n			\n						\n				\n									Looking for a unique and exclusive way to enjoy the Michael Jackson Movie? This is not your typical trip to the movies\, this is a celebration of Michael Jackson! We start in the cinema with popcorn in hand. Then we don’t go home\, we head to the dancefloor and party in the cinema. What to Expect: Private cinema screeningPopcorn & nachos on saleAfter party with DJs straight after the film80s\, 90s\, 00s anthems & MJ classics
URL:https://getawayexperience.co.uk/event/getaway-experience-games-and-social-night/
LOCATION:The Book Club\, 100-106 Leonard St\, LONDON\, London\, EC2A 4RH\, United Kingdom
CATEGORIES:Social,visible
ATTACH;FMTTYPE=image/jpeg:https://getawayexperience.co.uk/wp-content/uploads/2025/01/BC1-scaled.jpg
END:VEVENT
END:VCALENDAR