BEGIN:VCALENDAR
VERSION:2.0
PRODID:-//Getaway Experience - ECPv6.15.16//NONSGML v1.0//EN
CALSCALE:GREGORIAN
METHOD:PUBLISH
X-WR-CALNAME:Getaway Experience
X-ORIGINAL-URL:https://getawayexperience.co.uk
X-WR-CALDESC:Events for Getaway Experience
REFRESH-INTERVAL;VALUE=DURATION:PT1H
X-Robots-Tag:noindex
X-PUBLISHED-TTL:PT1H
BEGIN:VTIMEZONE
TZID:Europe/London
BEGIN:DAYLIGHT
TZOFFSETFROM:+0000
TZOFFSETTO:+0100
TZNAME:BST
DTSTART:20250330T010000
END:DAYLIGHT
BEGIN:STANDARD
TZOFFSETFROM:+0100
TZOFFSETTO:+0000
TZNAME:GMT
DTSTART:20251026T010000
END:STANDARD
BEGIN:DAYLIGHT
TZOFFSETFROM:+0000
TZOFFSETTO:+0100
TZNAME:BST
DTSTART:20260329T010000
END:DAYLIGHT
BEGIN:STANDARD
TZOFFSETFROM:+0100
TZOFFSETTO:+0000
TZNAME:GMT
DTSTART:20261025T010000
END:STANDARD
BEGIN:DAYLIGHT
TZOFFSETFROM:+0000
TZOFFSETTO:+0100
TZNAME:BST
DTSTART:20270328T010000
END:DAYLIGHT
BEGIN:STANDARD
TZOFFSETFROM:+0100
TZOFFSETTO:+0000
TZNAME:GMT
DTSTART:20271031T010000
END:STANDARD
END:VTIMEZONE
BEGIN:VEVENT
DTSTART;TZID=Europe/London:20260618T080000
DTEND;TZID=Europe/London:20260620T190000
DTSTAMP:20260421T162945
CREATED:20260108T005924Z
LAST-MODIFIED:20260109T184602Z
UID:645332-1781769600-1781982000@getawayexperience.co.uk
SUMMARY:Royal Ascot VIP 2026
DESCRIPTION:A CELEBRATION OF AN ICON				\n				\n					\n		\n					\n		\n				\n						\n					\n			\n						\n				\n									Looking for a unique and exclusive way to enjoy the Michael Jackson Movie? This is not your typical trip to the movies\, this is a celebration of Michael Jackson! We start in the cinema with popcorn in hand. Then we don’t go home\, we head to the dancefloor and party in the cinema. What to Expect: Private cinema screeningPopcorn & nachos on saleAfter party with DJs straight after the film80s\, 90s\, 00s anthems & MJ classics
URL:https://getawayexperience.co.uk/event/royal-ascot-2026/
LOCATION:Ascot Racecourse\, High St\, Ascot\, Reading\, SL5 7JX\, United Kingdom
CATEGORIES:visible
ATTACH;FMTTYPE=image/jpeg:https://getawayexperience.co.uk/wp-content/uploads/2026/01/Ascot-Flyer-A6.jpg
END:VEVENT
END:VCALENDAR