BEGIN:VCALENDAR
VERSION:2.0
PRODID:-//Getaway Experience - ECPv6.15.16//NONSGML v1.0//EN
CALSCALE:GREGORIAN
METHOD:PUBLISH
X-ORIGINAL-URL:https://getawayexperience.co.uk
X-WR-CALDESC:Events for Getaway Experience
REFRESH-INTERVAL;VALUE=DURATION:PT1H
X-Robots-Tag:noindex
X-PUBLISHED-TTL:PT1H
BEGIN:VTIMEZONE
TZID:Europe/London
BEGIN:DAYLIGHT
TZOFFSETFROM:+0000
TZOFFSETTO:+0100
TZNAME:BST
DTSTART:20230326T010000
END:DAYLIGHT
BEGIN:STANDARD
TZOFFSETFROM:+0100
TZOFFSETTO:+0000
TZNAME:GMT
DTSTART:20231029T010000
END:STANDARD
BEGIN:DAYLIGHT
TZOFFSETFROM:+0000
TZOFFSETTO:+0100
TZNAME:BST
DTSTART:20240331T010000
END:DAYLIGHT
BEGIN:STANDARD
TZOFFSETFROM:+0100
TZOFFSETTO:+0000
TZNAME:GMT
DTSTART:20241027T010000
END:STANDARD
BEGIN:DAYLIGHT
TZOFFSETFROM:+0000
TZOFFSETTO:+0100
TZNAME:BST
DTSTART:20250330T010000
END:DAYLIGHT
BEGIN:STANDARD
TZOFFSETFROM:+0100
TZOFFSETTO:+0000
TZNAME:GMT
DTSTART:20251026T010000
END:STANDARD
BEGIN:DAYLIGHT
TZOFFSETFROM:+0000
TZOFFSETTO:+0100
TZNAME:BST
DTSTART:20260329T010000
END:DAYLIGHT
BEGIN:STANDARD
TZOFFSETFROM:+0100
TZOFFSETTO:+0000
TZNAME:GMT
DTSTART:20261025T010000
END:STANDARD
END:VTIMEZONE
BEGIN:VEVENT
DTSTART;TZID=Europe/London:20241230T080000
DTEND;TZID=Europe/London:20241231T170000
DTSTAMP:20260423T021803
CREATED:20240503T135748Z
LAST-MODIFIED:20241109T230908Z
UID:639080-1735545600-1735664400@getawayexperience.co.uk
SUMMARY:Getaway NYE2024 – Party RSVP
DESCRIPTION:A CELEBRATION OF AN ICON				\n				\n					\n		\n					\n		\n				\n						\n					\n			\n						\n				\n									Looking for a unique and exclusive way to enjoy the Michael Jackson Movie? This is not your typical trip to the movies\, this is a celebration of Michael Jackson! We start in the cinema with popcorn in hand. Then we don’t go home\, we head to the dancefloor and party in the cinema. What to Expect: Private cinema screeningPopcorn & nachos on saleAfter party with DJs straight after the film80s\, 90s\, 00s anthems & MJ classics
URL:https://getawayexperience.co.uk/event/nye2024-rsvp-2/
LOCATION:Penta Hotel\, Oxford Rd\, Reading\, RG1 7RH\, United Kingdom
END:VEVENT
BEGIN:VEVENT
DTSTART;TZID=Europe/London:20241230T080000
DTEND;TZID=Europe/London:20250101T170000
DTSTAMP:20260423T021803
CREATED:20240103T102817Z
LAST-MODIFIED:20240506T045739Z
UID:634588-1735545600-1735750800@getawayexperience.co.uk
SUMMARY:TheGetaway NYE 2024-25 RSVP
DESCRIPTION:A CELEBRATION OF AN ICON				\n				\n					\n		\n					\n		\n				\n						\n					\n			\n						\n				\n									Looking for a unique and exclusive way to enjoy the Michael Jackson Movie? This is not your typical trip to the movies\, this is a celebration of Michael Jackson! We start in the cinema with popcorn in hand. Then we don’t go home\, we head to the dancefloor and party in the cinema. What to Expect: Private cinema screeningPopcorn & nachos on saleAfter party with DJs straight after the film80s\, 90s\, 00s anthems & MJ classics
URL:https://getawayexperience.co.uk/event/nye2024-rsvp/
ATTACH;FMTTYPE=image/jpeg:https://getawayexperience.co.uk/wp-content/uploads/2024/01/nye.jpg
END:VEVENT
BEGIN:VEVENT
DTSTART;TZID=Europe/London:20241230T120000
DTEND;TZID=Europe/London:20250101T120000
DTSTAMP:20260423T021803
CREATED:20240318T105137Z
LAST-MODIFIED:20241226T100911Z
UID:637385-1735560000-1735732800@getawayexperience.co.uk
SUMMARY:TheGetaway NYE 'Homecoming'
DESCRIPTION:A CELEBRATION OF AN ICON				\n				\n					\n		\n					\n		\n				\n						\n					\n			\n						\n				\n									Looking for a unique and exclusive way to enjoy the Michael Jackson Movie? This is not your typical trip to the movies\, this is a celebration of Michael Jackson! We start in the cinema with popcorn in hand. Then we don’t go home\, we head to the dancefloor and party in the cinema. What to Expect: Private cinema screeningPopcorn & nachos on saleAfter party with DJs straight after the film80s\, 90s\, 00s anthems & MJ classics
URL:https://getawayexperience.co.uk/event/nye24-home/
LOCATION:Penta Hotel\, Oxford Rd\, Reading\, RG1 7RH\, United Kingdom
CATEGORIES:NYE2023,visible
ATTACH;FMTTYPE=image/jpeg:https://getawayexperience.co.uk/wp-content/uploads/2024/03/pentahotel-reading-bar.jpg
END:VEVENT
END:VCALENDAR